BEGIN:VCALENDAR
VERSION:2.0
PRODID:-//IA Training AB  - ECPv6.11.2//NONSGML v1.0//EN
CALSCALE:GREGORIAN
METHOD:PUBLISH
X-WR-CALNAME:IA Training AB 
X-ORIGINAL-URL:https://www.iatraining.se
X-WR-CALDESC:Events for IA Training AB 
REFRESH-INTERVAL;VALUE=DURATION:PT1H
X-Robots-Tag:noindex
X-PUBLISHED-TTL:PT1H
BEGIN:VTIMEZONE
TZID:Europe/Stockholm
BEGIN:DAYLIGHT
TZOFFSETFROM:+0100
TZOFFSETTO:+0200
TZNAME:CEST
DTSTART:20260329T010000
END:DAYLIGHT
BEGIN:STANDARD
TZOFFSETFROM:+0200
TZOFFSETTO:+0100
TZNAME:CET
DTSTART:20261025T010000
END:STANDARD
END:VTIMEZONE
BEGIN:VEVENT
DTSTART;TZID=Europe/Stockholm:20260430T000000
DTEND;TZID=Europe/Stockholm:20260503T235959
DTSTAMP:20260425T145142
CREATED:20251027T111325Z
LAST-MODIFIED:20260323T152505Z
UID:874-1777507200-1777852799@www.iatraining.se
SUMMARY:Padelresa - OSBY Padelcenter 30april 2026
DESCRIPTION:FULLBOKAD! Skräddarsydd Padelresa OSBY Padelcenter\n30 april till 3 maj 2026 \nKostnad: 6.800kr \nIngår: Delat boende i lägenheter (4-6 pers)\,\n4st Lunch & 3st Middagar inkl. 1st vin/öl/alkoholfritt.\n3h Padel Clinic träningar\,\n8h Padelmatcher & aktiviteter\, nya bollar.\nPadel Sirocco och IA Training T-shirts (Herr) och Linne (Dam) \nFlyg\, transfer och frukost ingår ej! \nRekommenderat flyg från Köpenhamn:\nCPH-ALC med SAS 29 april 14:15-17:40\nALC-CPH med SAS 3 maj 19:00-22:15 \nAnmälan och betalning (Sista anmälningsdag 15 dec 2025)\nAnmälan sker via Jennie Reimer och i samband med anmälan betalas en delbetalning till IA Training AB på 400kr/person för att säkra din plats.\nSwish nr 1234456836 eller BG 826–3618.\nVänligen skriv: OSBY Padel 30 april\, vid betalning!\nSlutbetalning sker senast 25 mars 2026. \n\nPROGRAM\nTorsdag 30 april\n* Sovmorgon & Chill\n12:00-13:00   Padel Clinic träning med 1st tränare Kim Frank och 3st Sirocco tränare 1h\n13:15                Lunch Sirocco inkl. 1st vin/öl/alkoholfritt\n* Fri tid för Chill\, Pool/Strandhäng eller mer Padel (Banor bokas på plats)\n16:30-18:00   Americano No 1 with Winners Court Twist 90min\n19:00               Middag Sirocco inkl. 1st vin/öl/alkoholfritt \nFredag 01 maj\n* Sovmorgon & Chill\n12:00-13:00  Padel Clinic träning med 1st tränare Kim Frank och 3st Sirocco tränare 1h\n13:15               Lunch Sirocco inkl. 1st vin/öl/alkoholfritt\n* Fri tid för Chill\, Pool/Strandhäng eller mer Padel (Banor bokas på plats)\n16:30-18:30   Padelmatcher\, indelas på plats efter nivå\n19:00               Middag Sirocco inkl. 1st vin/öl/alkoholfritt \nLördag 02 maj\n* Sovmorgon & Chill\n12:00-13:00  Padel Clinic träning med 1st tränare Kim Frank och 3st Sirocco tränare 1h\n13:15               Lunch Sirocco inkl. 1st vin/öl/alkoholfritt\n* Fri tid för Chill\, Pool/Strandhäng eller mer Padel (Banor bokas på plats)\n15:00-18:00   Tournament 3h inkl. Vatten & priser.\n20:00            Avslutningsmiddag Sirocco inkl. 1st vin/öl/alkoholfritt \nSöndag 03 maj\n* Sovmorgon & Chill\n10:30-12:00 Americano No 2 with Winners Court Twist 90min\n12:30             Avslutningslunch Sirocco inkl. 1st vin/öl/alkoholfritt\n* Fri tid för Chill\, Pool/Strandhäng eller mer Padel (Banor bokas på plats) innan hemfärd!\n \nAvbokningsregler:\nDelbetalning återbetalas ej vid avbokning.\nAvbokning senast 45 dagar innan ankomst\, återbetalas 85%\nAvbokning senast 21 dagar innan ankomst\, återbetalas 75%\nAvbokning senast 14 dagar innan ankomst\, återbetalas 50%\nVid avbokning senare än 7 dagar innan ankoms\, sker ingen återbetalning.\n* Möjlighet finns att överlåta Padelresan till annan deltagare du finner.
URL:https://www.iatraining.se/event/padelresa-osby-padelcenter-30april/
LOCATION:Sirocco\, Av de luxemburgo\, 03191\, Mil Palmeras Alicante\, 03191\, Spain
ORGANIZER;CN="IA Training AB":MAILTO:katrin@iatraining.se
END:VEVENT
BEGIN:VEVENT
DTSTART;TZID=Europe/Stockholm:20260508T000000
DTEND;TZID=Europe/Stockholm:20260510T235959
DTSTAMP:20260425T145142
CREATED:20250819T082708Z
LAST-MODIFIED:20260323T152109Z
UID:624-1778198400-1778457599@www.iatraining.se
SUMMARY:Padelresa till Spanien 8-10maj
DESCRIPTION:FULLBOKAD! Padelresa till Spanien –  VISTA PADEL!\n \n\nKostnad:\n6.800kr Inkl. delat Boende\n5.200kr Exkl. Boende\nIngår: 3st Lunch & Middagar inkl. 1st vin/öl/alkoholfritt. 2h Padel Clinic\, 90min matcher med coach och 9h Padel aktiviteter\, nya bollar. Padel Sirocco T-shirts för Herr och Padel Sirocco Linne för Dam. \nFlyg\, transfer och frukost ingår ej!\nRekommenderat flyg Norweigan:\nTorsdag 7 maj Arlanda – Alicante 20:15-00:20\nmåndag 11 maj Alicante – Arlanda 07:00-10:55 \nAnmälan och betalning:\nAnmälan sker till katrin@iatraining.se eller sms 0701-900636 med för och efternamn samt om ni önskar inkl. eller exkl. delat boende.\nI samband med anmälan betalas en delbetalning på 400kr/person för att säkra din plats.\nSwish nr 1234456836 eller BG 826–3618.\nVänligen skriv: Vista Padel 8-10maj samt nivå du/ni har\, vid betalning!\nSlutbetalning sker senast 25 mars 2026. \n \n  \n\nPROGRAM\nFredag 8 maj \n* Sovmorgon & Chill\n11:00-12:00   Padel Clinic träning med 4st tränare från Sirocco 1h\n12:30-13:30    Lunch Sirocco inkl. 1st vin/öl/alkoholfritt\n* Fri tid för Chill\, Pool/Strandhäng eller mer Padel (Banor bokas på plats)\n16:30-19:30    Winners Court 3h\n20:30               Middag Sirocco inkl. 1st vin/öl/alkoholfritt \n\nLördag 9 maj\n* Sovmorgon & Chill\n10:00-11:00   Padel Clinic träning med 4st tränare från Sirocco 1h\n12:30-13:30    Lunch Sirocco inkl. 1st vin/öl/alkoholfritt\n* Fri tid för Chill\, Pool/Strandhäng eller mer Padel (Banor bokas på plats)\n18:00-19:30   Padelmatcher med Coach från Sirocco 90min\n20:30               BBQ Middag Sirocco inkl. 1st vin/öl/alkoholfritt \nSöndag 10 maj\n10:30-12:00   Padel matcher / Winners Court\n12:30-13:30   Lunch Sirocco inkl. 1st vin/öl/alkoholfritt\n* Fri tid för Chill\, Pool/Strandhäng eller mer Padel (Banor bokas på plats)\n15:00-18:00    Tournament 3h inkl. Vatten & priser\n19:30               Avslutningsmiddag Sirocco inkl. 1st vin/öl/alkoholfritt \nAvbokningsregler:\nDelbetalning återbetalas ej vid avbokning.\nAvbokning senast 45 dagar innan ankomst\, återbetalas 85%\nAvbokning senast 21 dagar innan ankomst\, återbetalas 75%\nAvbokning senast 14 dagar innan ankomst\, återbetalas 50%\nVid avbokning senare än 7 dagar innan ankoms\, sker ingen återbetalning.\n* Möjlighet finns att överlåta Padelresan till annan deltagare du finner.
URL:https://www.iatraining.se/event/padelresa-till-spanien-8-10maj/
LOCATION:Sirocco\, Av de luxemburgo\, 03191\, Mil Palmeras Alicante\, 03191\, Spain
ORGANIZER;CN="Eklunds Consulting":MAILTO:katrin@iatraining.se
END:VEVENT
BEGIN:VEVENT
DTSTART;TZID=Europe/Stockholm:20260511T000000
DTEND;TZID=Europe/Stockholm:20260515T235959
DTSTAMP:20260425T145142
CREATED:20250702T085910Z
LAST-MODIFIED:20260323T152233Z
UID:580-1778457600-1778889599@www.iatraining.se
SUMMARY:Mix Padelresa 11maj-15maj
DESCRIPTION:Fullbokad! Mix Padelresa – Slutet Sällskap. \nInkl. 3h Padelträning\, 13\,5h Padelaktivitet\, 1st frukost\, 4st luncher\, 4st middagar\, samt att all mat är inkl. en öl/vin/läsk. \nMåndag 11 maj 2026\n09:00-10:00 Frukost Sirocco (16pers)\n10:00-11:00  Padel Clinic\, Träning med tränare (4 banor med 4st tränare)\n11:30-12:30  Lunch Sirocco inkl. en öl/vin/läsk\nChill\, Beach\, Pool\, fri tid & ombyte\n16:30-19:30 Winners Court 3h Mix-Lag (4 banor)\n20:30              Middag Sirocco inkl. en öl/vin/läsk\n\nTisdag 12 maj 2026\nSovmorgon\n10:00-11:00 Padel Clinic\, Träning med tränare (4 banor med 4st tränare)\n11:30-12:30 Lunch Sirocco inkl. en öl/vin/läsk\n13:00-14:30 Dam- & Herrmatcher 90min (4 banor)\nChill\, Beach\, Pool\, fri tid & ombyte\n18:00               Fördrink \n20:00               ***Bokar bord för Middag Flame\, Plaza Nueva\, Horadada\n\nOnsdag 13 maj 2026\n09:00-12:00 Dam Tournament (4 banor)\n12:30-13:30  Lunch Sirocco inkl. en öl/vin/läsk\n13:30-16:30  Herr Tournament (4 banor)\nChill\, Beach\, Pool\, fri tid & ombyte\n20:00             Middag Sirocco inkl. en öl/vin/läsk\n\nTorsdag 14 maj 2026\nSovmorgon\n12:00-13:00 Padel Clinic\, Träning med tränare (4 banor med 4st tränare)\n13:00-14:00 Lunch Sirocco inkl. en öl/vin/läsk\nChill\, Beach\, Pool\, fri tid & ombyte\n15:00-18:00  Winners Court 3h (4 banor)\n19:00              Middag Sirocco inkl. 1vin/öl/läsk.\n\nFredag 15 maj 2026\nSovmorgon\, Chill\, Beach\, Pool\, fri tid & ombyte\n12:00-13:00    ***Bokar bord för Lunch \n15:00-18:00  Winners Court 3h Mix lag (4 banor)\n19:00              Avslutningsmiddag Sirocco inkl. 1vin/öl/läsk Sirocco \nAvbokningsregler:\nDelbetalning återbetalas ej vid avbokning.\nAvbokning senast 45 dagar innan ankomst\, återbetalas 85%\nAvbokning senast 21 dagar innan ankomst\, återbetalas 75%\nAvbokning senast 14 dagar innan ankomst\, återbetalas 50%\nVid avbokning senare än 7 dagar innan ankoms\, sker ingen återbetalning.\n* Möjlighet finns att överlåta Padelresan till annan deltagare du finner.
URL:https://www.iatraining.se/event/skraddarsydd-grupp-mix-padelresa-11maj-15maj/
LOCATION:Sirocco\, Av de luxemburgo\, 03191\, Mil Palmeras Alicante\, 03191\, Spain
ORGANIZER;CN="Eklunds Consulting":MAILTO:katrin@iatraining.se
END:VEVENT
BEGIN:VEVENT
DTSTART;TZID=Europe/Stockholm:20260518T000000
DTEND;TZID=Europe/Stockholm:20260611T235959
DTSTAMP:20260425T145142
CREATED:20260216T170529Z
LAST-MODIFIED:20260216T171445Z
UID:1024-1779062400-1781222399@www.iatraining.se
SUMMARY:Bootcamp Rudan 18 maj
DESCRIPTION:Kom i form under 4 veckor och anmäl dig till – Bootcamp Rudans Friluftsområde\, Haninge– totalt 12st träningar med coach Katrin Eklund. \nStart 18 maj -> 11 juni\nMåndagar\, tisdagar och torsdagar 16:30 – 17:30.\n* Om det mot förmodan sker förändringar i dagar/tider\, förmedlas detta under träningsperioden och i god tid. \nBootcamp träningen utförs av funktionella träningar i många repetitioner där vi bygger styrka\, uthållighet och kondition i större grupp utomhus i Rudans friluftsområdes omgivning. Vi träffas vid utegymmet vid första träningen. \nDeltagarna tränar efter egen förmåga tillsammans i grupp utomhus oavsett väder. Träningen som vi utövar är funktionell träning med egen kroppsvikt i många repetitioner inklusive löpning. \nKostnad: 1.140kr/person för 12st träningar\nFamiljepris: 995kr/person där flera i samma familj anmäler sig \nAnmälan och betalning:\n-> Anmälan sker via inbetald avgift\nSwish nr 123 445 68 36 eller BG 626-3618\nVänligen skriv: Bootcamp Rudan 18 maj vid betalning. \nVid frågor eller om ni önskar faktura\, vänligen kontakta katrin@iatraining.se eller mobil: 0701-900636 \nMer information: Bootcamp – IA Training
URL:https://www.iatraining.se/event/bootcamp-rudan-18-maj/
LOCATION:Rudans friluftsområde\, Haninge\, Haninge\, Sweden
CATEGORIES:Bootcamp
ORGANIZER;CN="IA Training AB":MAILTO:katrin@iatraining.se
END:VEVENT
BEGIN:VEVENT
DTSTART;TZID=Europe/Stockholm:20260518T183000
DTEND;TZID=Europe/Stockholm:20260611T193000
DTSTAMP:20260425T145142
CREATED:20260129T115105Z
LAST-MODIFIED:20260129T120256Z
UID:996-1779129000-1781206200@www.iatraining.se
SUMMARY:Bootcamp Hanveden 18 maj
DESCRIPTION:Kom i form under 4 veckor och anmäl dig till – Bootcamp Hanveden\, Västerhaninge – totalt 12st träningar med coach Katrin Eklund. \nStart 18 maj -> 11 juni\nMåndagar\, tisdagar och torsdagar 18:30 – 19:30.\n* Om det mot förmodan sker förändringar i dagar/tider\, förmedlas detta under träningsperioden och i god tid. \nBootcamp träningen utförs av funktionella träningar i många repetitioner där vi bygger styrka\, uthållighet och kondition i större grupp utomhus i Hanvedens omgivning. \nDeltagarna tränar efter egen förmåga tillsammans i grupp utomhus oavsett väder. Träningen som vi utövar är funktionell träning med egen kroppsvikt i många repetitioner inklusive löpning. \nKostnad: 1.140kr/person för 12st träningar\nFamiljepris: 995kr/person där flera i samma familj anmäler sig \nAnmälan och betalning:\n-> Anmälan sker via inbetald avgift\nSwish nr 123 445 68 36 eller BG 626-3618\nVänligen skriv: Bootcamp 18 maj vid betalning. \nVid frågor eller om ni önskar faktura\, vänligen kontakta katrin@iatraining.se eller mobil: 0701-900636 \nMer information: Bootcamp – IA Training
URL:https://www.iatraining.se/event/bootcamp-hanveden-18-maj/
LOCATION:Hanveden Västerhaninge
ORGANIZER;CN="IA Training AB":MAILTO:katrin@iatraining.se
END:VEVENT
BEGIN:VEVENT
DTSTART;TZID=Europe/Stockholm:20260810T000000
DTEND;TZID=Europe/Stockholm:20260917T235959
DTSTAMP:20260425T145142
CREATED:20260205T095246Z
LAST-MODIFIED:20260216T170302Z
UID:1020-1786320000-1789689599@www.iatraining.se
SUMMARY:Bootcamp Hanveden 10aug
DESCRIPTION:Kom i form och anmäl dig till – Bootcamp Hanveden\, Västerhaninge\nTräningar 3ggr i veckan under 6 veckor!\n18st träningar med coach Katrin Eklund. \nStart 10 aug -> 17 sep\,\nMåndagar\, tisdagar och torsdagar 18:30 – 19:30.\n* Om det mot förmodan sker förändringar i dagar/tider\, förmedlas detta under träningsperioden och i god tid. \nBootcamp träningen utförs av funktionella träningar i många repetitioner där vi bygger styrka\, uthållighet och kondition i större grupp utomhus i Hanvedens omgivning. \nDeltagarna tränar efter egen förmåga tillsammans i grupp utomhus oavsett väder. Träningen som vi utövar är funktionell träning med egen kroppsvikt i många repetitioner inklusive löpning. \nKostnad: 1.700kr/person för 18st träningar\nFamiljepris: 1.500kr/person där flera i samma familj anmäler sig \nAnmälan och betalning:\n-> Anmälan sker via inbetald avgift\nSwish nr 123 445 68 36 eller BG 626-3618\nVänligen skriv: Bootcamp 10 aug vid betalning. \nVid frågor eller om ni önskar faktura\, vänligen kontakta katrin@iatraining.se eller mobil: 0701-900636 \nMer information: Bootcamp – IA Training
URL:https://www.iatraining.se/event/bootcamp-hanveden-10aug/
LOCATION:Hanveden Västerhaninge
CATEGORIES:Bootcamp
ORGANIZER;CN="IA Training AB":MAILTO:katrin@iatraining.se
END:VEVENT
BEGIN:VEVENT
DTSTART;TZID=Europe/Stockholm:20260810T000000
DTEND;TZID=Europe/Stockholm:20260917T235959
DTSTAMP:20260425T145142
CREATED:20260216T170738Z
LAST-MODIFIED:20260216T171121Z
UID:1023-1786320000-1789689599@www.iatraining.se
SUMMARY:Bootcamp Rudan 10 aug
DESCRIPTION:Kom i form och anmäl dig till – Bootcamp Rudan Friluftsområde\, Haninge\nTräningar 3ggr i veckan under 6 veckor!\n18st träningar med coach Katrin Eklund. \nStart 10 aug -> 17 sep\,\nMåndagar\, tisdagar och torsdagar 16:30 – 17:30.\n* Om det mot förmodan sker förändringar i dagar/tider\, förmedlas detta under träningsperioden och i god tid. \nBootcamp träningen utförs av funktionella träningar i många repetitioner där vi bygger styrka\, uthållighet och kondition i större grupp utomhus i Rudans omgivning. Vi ses vid utegymmet vid första träningen. \nDeltagarna tränar efter egen förmåga tillsammans i grupp utomhus oavsett väder. Träningen som vi utövar är funktionell träning med egen kroppsvikt i många repetitioner inklusive löpning. \nKostnad: 1.700kr/person för 18st träningar\nFamiljepris: 1.500kr/person där flera i samma familj anmäler sig \nAnmälan och betalning:\n-> Anmälan sker via inbetald avgift\nSwish nr 123 445 68 36 eller BG 626-3618\nVänligen skriv: Bootcamp Rudan 10 aug vid betalning. \nVid frågor eller om ni önskar faktura\, vänligen kontakta katrin@iatraining.se eller mobil: 0701-900636 \nMer information: Bootcamp – IA Training
URL:https://www.iatraining.se/event/bootcamp-rudan-10-aug/
LOCATION:Rudans friluftsområde\, Haninge\, Haninge\, Sweden
CATEGORIES:Bootcamp
ORGANIZER;CN="IA Training AB":MAILTO:katrin@iatraining.se
END:VEVENT
BEGIN:VEVENT
DTSTART;TZID=Europe/Stockholm:20260924T000000
DTEND;TZID=Europe/Stockholm:20260927T235959
DTSTAMP:20260425T145142
CREATED:20260204T115932Z
LAST-MODIFIED:20260323T152029Z
UID:1010-1790208000-1790553599@www.iatraining.se
SUMMARY:Weekend Padel Sirocco 24-27sep
DESCRIPTION:Weekend Padel Sirocco – Herr & Dam Padel Nivå 4-6\n\nHäng med till Spanien – Spela\, Träna och häng med likasinnade i en fantastisk miljö. Läs mer om: Sirocco Club de Padel eller Siroccos hemsida \nKostnad:\n6.800kr Inkl. delat Boende (4-6pers)\n4.500kr Exkl. Boende\nDetta ingår : 2st frukost\, 4st Lunch inkl. 1 dryck\, 3st Middagar inkl. 1 dryck.\n2h Padel Clinic träning\, 11h Padelaktiviteter\, nya bollar.\nPadel Sirocco T-shirts för Herrar och Padel Sirocco Linne till Damer. \nFlyg och transfer ingår ej!\n \nProgram:\nTorsdag 24 september\n09:00-10:00   Frukost Sirocco\n10:30-11:30   Padel Clinic träning 1h (12pers)\n11:30-12:30    Padel Clinic träning 1h (4pers)\n12:30-13:30    Lunch Sirocco inkl. 1st vin/öl/alkoholfritt\n* Fri tid för Chill\, Pool/Strandhäng eller mer Padel (Banor bokas på plats)\n16:00-19:00    Winners Court med Twist 3h\n20:30               Middag Sirocco inkl. 1st vin/öl/alkoholfritt \nFredag 25 september \n*Sovmorgon \n09:30-10:30   Padel Clinic träning 1h (12pers)\n10:30-11:30    Padel Clinic träning 1h (4pers)\n12:oo-13:oo    Lunch Sirocco inkl. 1st vin/öl/alkoholfritt\n14:00-16:00    Padelmatcher 2h\, delas in på plats\n* Fri tid för Chill\, Pool/Strandhäng eller mer Padel (Banor bokas på plats)\n20:30               Middag Sirocco inkl. 1st vin/öl/alkoholfritt \nLördag 26 september\n09:00-10:00  Frukost Sirocco\n10:00-13:00   Padel Tournament 3h\n13:30-14:30   Lunch Sirocco inkl. 1st vin/öl/alkoholfritt\n* Fri tid för Chill\, Pool/Strandhäng eller mer Padel (Banor bokas på plats)\n20:30              Middag Sirocco inkl. 1st vin/öl/alkoholfritt \nSöndag 27 september\n* Sovmorgon & Chill\n13:00-14:00   Lunch Sirocco inkl. 1st vin/öl/alkoholfritt\n14:30-17:30   Winners Court – Sunday Funday 3h\n* Fri tid för Chill\, Pool/Strandhäng eller mer Padel (Banor bokas på plats)\n19:30              Avslutningsmiddag Sirocco inkl. 1st vin/öl/alkoholfritt \nI samband med anmälan betalas en delbetalning på 400kr/person för att säkra din plats och boka banor/tränare. Anmälan skickas till:\nInfo@iatraining.se eller katrin@iatraining.se Mobil: 0701-900636\nSwish betalning till 1234456836 \nBG betalning 826-3618 \nSEB betalning 5040 1090159\nVänligen skriv: Sirocco 24 okt på inbetalningen! \nAvbokningsregler:\nDelbetalning återbetalas ej vid avbokning.\nAvbokning senast 45 dagar innan ankomst\, återbetalas 85%\nAvbokning senast 21 dagar innan ankomst\, återbetalas 75%\nAvbokning senast 14 dagar innan ankomst\, återbetalas 50%\nVid avbokning senare än 7 dagar innan ankoms\, sker ingen återbetalning.\n* Möjlighet finns att överlåta Padelresan till annan deltagare du finner.
URL:https://www.iatraining.se/event/weekend-padel-sirocco-24-27sep/
LOCATION:Sirocco\, Av de luxemburgo\, 03191\, Mil Palmeras Alicante\, 03191\, Spain
ORGANIZER;CN="IA Training AB":MAILTO:katrin@iatraining.se
END:VEVENT
BEGIN:VEVENT
DTSTART;TZID=Europe/Stockholm:20261001T000000
DTEND;TZID=Europe/Stockholm:20261004T235959
DTSTAMP:20260425T145142
CREATED:20260318T083925Z
LAST-MODIFIED:20260323T152005Z
UID:1056-1790812800-1791158399@www.iatraining.se
SUMMARY:Padelresa Sirocco 1-4 oktober
DESCRIPTION:Padel Sirocco – Herr & Dam – Slutet sällskap \nFyra fullspäckade dagar med Padel i en fantastisk miljö i Spanien.\nLäs mer om: Sirocco Club de Padel eller Siroccos hemsida \nKostnad:\n7.400kr Inkl. delat Boende (4pers)\nDetta ingår : 1st frukost\, 4st Lunch & Middag inkl. 1 dryck\,\n3h Padel Clinic träning\, 12h Padelmatcher och Padelaktiviteter\, nya bollar.\nPadel Sirocco T-shirts för Herrar och Padel Sirocco Linne till Damer. \nFlyg och transfer ingår ej!\n \nProgram:\nTorsdag 01 oktober\n08:00-09:00  Frukost Sirocco\n09:00-10:00  Padel Clinic träning 1h (16pers)\n* Fri tid för Chill\, Pool/Beach\n13:30-14:30  Lunch Sirocco inkl. 1st vin/öl/alkoholfritt\n15:00-18:00  Team Americoano with Twist No.1\n* Fri tid för Chill\, Pool/Beach\n20:00             Middag Sirocco inkl. 1st vin/öl/alkoholfritt \nFredag 02 oktober\n09:00-10:00   Padel Clinic träning 1h (8pers)\n10:00-11:00    Padel Clinic träning 1h (8pers)\n11:3o-12:3o    Lunch Sirocco inkl. 1st vin/öl/alkoholfritt\n* Fri tid för Chill\, Pool/Beach eller mer Padel (Banor bokas på plats)\n16:30-19:30   Winners Court with Twist\n20:00               Middag Sirocco inkl. 1st vin/öl/alkoholfritt \nLördag 03 oktober\n09:00-10:00 Padel Clinic träning 1h (8pers)\n10:00-11:00  Padel Clinic träning 1h (8pers)\n11:30-12:30   Lunch Sirocco inkl. 1st vin/öl/alkoholfritt\n* Fri tid för Chill\, Pool/Beach eller mer Padel (Banor bokas på plats)\n15:00-18:00 Tournament\n* Fri tid för Chill\, Pool\, Beach & ombyte\n20:00              Middag Sirocco inkl. 1st vin/öl/alkoholfritt \nSöndag 04 oktober\n10:30-12:00  Team Americano with Twist No.2\n12:30-13:30 Lunch Sirocco inkl. 1st vin/öl/alkoholfritt\n*Fri tid för Chill\, Pool/Strandhäng eller mer Padel (Banor bokas på plats)\n18:00-19:30   Padelmatcher 90min – delas in på plats\n20:00              Avslutningsmiddag Sirocco inkl. 1st vin/öl/alkoholfritt \nAnmälan och betalning\nAnmälan sker via Jennie Reimer och i samband med anmälan betalas en delbetalning till IA Training AB på 400kr/person för att säkra din plats.\nSwish betalning till 123 445 68 36 \nBG betalning 826-3618 \nVänligen skriv: Sirocco 1 okt på inbetalningen! \nAvbokningsregler:\nDelbetalning återbetalas ej vid avbokning.\nAvbokning senast 45 dagar innan ankomst\, återbetalas 85%\nAvbokning senast 21 dagar innan ankomst\, återbetalas 75%\nAvbokning senast 14 dagar innan ankomst\, återbetalas 50%\nVid avbokning senare än 7 dagar innan ankoms\, sker ingen återbetalning.\n* Möjlighet finns att överlåta Padelresan till annan deltagare du finner.
URL:https://www.iatraining.se/event/padelresa-sirocco-1-4-oktober/
LOCATION:Sirocco\, Av de luxemburgo\, 03191\, Mil Palmeras Alicante\, 03191\, Spain
END:VEVENT
END:VCALENDAR